Workbook

Sheet DataCreation
A1: d.hatena.ne.jp/ryuka01/ [ 2011/04/01 -> 2011/04/30 ] queryInfo[queryString=https://www.google.com/analytics/feeds/data?ids=ga:900747&dimensions=ga:pageTitle&metrics=ga:bounces,ga:entrances,ga:newVisits,ga:pageviews,ga:timeOnPage,ga:visits,ga:goalCompletionsAll,ga:goalValueAll&segment=gaid::-1&sort=-ga:pageviews&start-date=2011-04-01&end-date=2011-04-30&max-results=50;rows=50;columns=9;timePeriod=LastMonth] | K1: d.hatena.ne.jp/ryuka01/ [ 2011/04/01 -> 2011/04/30 ] queryInfo[queryString=https://www.google.com/analytics/feeds/data?ids=ga:900747&dimensions=ga:medium,ga:source&metrics=ga:bounces,ga:entrances,ga:newVisits,ga:visits,ga:adClicks,ga:adCost,ga:goalCompletionsAll,ga:goalValueAll&segment=gaid::-1&sort=-ga:visits&start-date=2011-04-01&end-date=2011-04-30&max-results=10000;rows=323;columns=10;timePeriod=LastMonth] | V1: d.hatena.ne.jp/ryuka01/ [ 2011/04/01 -> 2011/04/30 ] queryInfo[queryString=https://www.google.com/analytics/feeds/data?ids=ga:900747&dimensions=ga:date&metrics=ga:bounces,ga:entrances,ga:newVisits,ga:visits,ga:goalCompletionsAll,ga:goalValueAll&segment=gaid::-1&sort=ga:date&start-date=2011-04-01&end-date=2011-04-30&max-results=31;rows=30;columns=7;timePeriod=LastMonth]
A2: page title | B2: bounces | C2: entrances | D2: new visits | E2: pageviews | F2: time on page | G2: visits | H2: goal completions all | I2: goal value all | K2: medium | L2: source | M2: bounces | N2: entrances | O2: new visits | P2: visits | Q2: ad clicks | R2: ad cost | S2: goal completions all | T2: goal value all | V2: date | W2: bounces | X2: entrances | Y2: new visits | Z2: visits | AA2: goal completions all | AB2: goal value all
A3: Twitter解析ツール１５種比較レビュー - リアルアクセス解析 | B3: 2768 | C3: 3672 | D3: 648 | E3: 4559 | F3: 291599 | G3: 3672 | H3: 727 | I3: 7320 | K3: organic | L3: google | M3: 5504 | N3: 7132 | O3: 1040 | P3: 7132 | Q3: 0 | R3: 0 | S3: 805 | T3: 8490 | V3: 20110401 | W3: 503 | X3: 603 | Y3: 105 | Z3: 603 | AA3: 49 | AB3: 500
A4: Twitter解析をしたい全ての人へ。無料ツイッター解析ツール「TwiTraq」レビュー - リアルアクセス解析 | B4: 1267 | C4: 1766 | D4: 331 | E4: 2642 | F4: 148623 | G4: 1766 | H4: 522 | I4: 5220 | K4: organic | L4: yahoo | M4: 1265 | N4: 1584 | O4: 340 | P4: 1584 | Q4: 0 | R4: 0 | S4: 144 | T4: 1520 | V4: 20110402 | W4: 198 | X4: 256 | Y4: 50 | Z4: 256 | AA4: 24 | AB4: 240
A5: リアルアクセス解析 | B5: 548 | C5: 729 | D5: 93 | E5: 1184 | F5: 65051 | G5: 729 | H5: 339 | I5: 3860 | K5: (none) | L5: (direct) | M5: 618 | N5: 727 | O5: 446 | P5: 727 | Q5: 0 | R5: 0 | S5: 57 | T5: 620 | V5: 20110403 | W5: 198 | X5: 253 | Y5: 62 | Z5: 253 | AA5: 18 | AB5: 180
A6: ウェブ分析をする上で大切な「4つの視点」と「１つのサイクル」 - リアルアクセス解析 | B6: 496 | C6: 552 | D6: 61 | E6: 622 | F6: 24222 | G6: 552 | H6: 70 | I6: 750 | K6: referral | L6: twitter.com | M6: 260 | N6: 312 | O6: 26 | P6: 312 | Q6: 0 | R6: 0 | S6: 41 | T6: 470 | V6: 20110404 | W6: 345 | X6: 424 | Y6: 86 | Z6: 424 | AA6: 38 | AB6: 410
A7: 「アトリビューション分析」連載 その3：アトリビューション評価に必要なデータ その１ - リアルアクセス解析 | B7: 234 | C7: 325 | D7: 40 | E7: 455 | F7: 20769 | G7: 325 | H7: 98 | I7: 1000 | K7: referral | L7: google.co.jp | M7: 224 | N7: 283 | O7: 27 | P7: 283 | Q7: 0 | R7: 0 | S7: 40 | T7: 460 | V7: 20110405 | W7: 474 | X7: 605 | Y7: 106 | Z7: 605 | AA7: 91 | AB7: 970
A8: 無料で始める、企業向けTwitter分析術 - リアルアクセス解析 | B8: 155 | C8: 242 | D8: 26 | E8: 391 | F8: 28939 | G8: 242 | H8: 139 | I8: 1410 | K8: referral | L8: a2i.jp | M8: 195 | N8: 259 | O8: 27 | P8: 259 | Q8: 0 | R8: 0 | S8: 56 | T8: 590 | V8: 20110406 | W8: 384 | X8: 521 | Y8: 101 | Z8: 521 | AA8: 77 | AB8: 840
A9: 「アトリビューション分析」連載 その1：アトリビューションとは？ - リアルアクセス解析 | B9: 108 | C9: 184 | D9: 33 | E9: 360 | F9: 26287 | G9: 184 | H9: 163 | I9: 1690 | K9: referral | L9: b.hatena.ne.jp | M9: 127 | N9: 158 | O9: 7 | P9: 158 | Q9: 0 | R9: 0 | S9: 18 | T9: 190 | V9: 20110407 | W9: 336 | X9: 432 | Y9: 83 | Z9: 432 | AA9: 39 | AB9: 400
A10: 本当にユーザーを特定するアクセス解析ツール「User Identification Analytics」 - リアルアクセス解析 | B10: 227 | C10: 263 | D10: 52 | E10: 305 | F10: 5722 | G10: 263 | H10: 31 | I10: 340 | K10: referral | L10: facebook.com | M10: 79 | N10: 152 | O10: 11 | P10: 152 | Q10: 0 | R10: 0 | S10: 57 | T10: 590 | V10: 20110408 | W10: 311 | X10: 402 | Y10: 72 | Z10: 402 | AA10: 49 | AB10: 550
A11: GoogleAnalyticsのデータから、無料で「使える」分析レポートが作成出来る『Arest（アレスト）』レビュー - リアルアクセス解析 | B11: 160 | C11: 179 | D11: 38 | E11: 270 | F11: 12311 | G11: 179 | H11: 50 | I11: 510 | K11: blog | L11: blog | M11: 109 | N11: 120 | O11: 15 | P11: 120 | Q11: 0 | R11: 0 | S11: 9 | T11: 120 | V11: 20110409 | W11: 203 | X11: 282 | Y11: 54 | Z11: 282 | AA11: 32 | AB11: 330
A12: GoogleAnalyticsに１クリックで反映！本当に使える３つのカスタムレポート - リアルアクセス解析 | B12: 118 | C12: 147 | D12: 25 | E12: 251 | F12: 12381 | G12: 147 | H12: 45 | I12: 450 | K12: referral | L12: reader.livedoor.com | M12: 73 | N12: 107 | O12: 6 | P12: 107 | Q12: 0 | R12: 0 | S12: 8 | T12: 90 | V12: 20110410 | W12: 166 | X12: 217 | Y12: 38 | Z12: 217 | AA12: 25 | AB12: 250
A13: SEOとリスティングの比較（閲覧率やクリック率等） - リアルアクセス解析 | B13: 177 | C13: 210 | D13: 44 | E13: 249 | F13: 10993 | G13: 210 | H13: 28 | I13: 280 | K13: organic | L13: bing | M13: 66 | N13: 92 | O13: 29 | P13: 92 | Q13: 0 | R13: 0 | S13: 11 | T13: 110 | V13: 20110411 | W13: 338 | X13: 443 | Y13: 74 | Z13: 443 | AA13: 55 | AB13: 600
A14: アクセス解析やTwitter分析など、3年間でレビューした100個のツールをまとめた『ウェブ分析ツール大全』を公開！ - リアルアクセス解析 | B14: 111 | C14: 152 | D14: 15 | E14: 243 | F14: 10876 | G14: 152 | H14: 65 | I14: 690 | K14: referral | L14: google.com | M14: 75 | N14: 88 | O14: 11 | P14: 88 | Q14: 0 | R14: 0 | S14: 6 | T14: 60 | V14: 20110412 | W14: 335 | X14: 434 | Y14: 79 | Z14: 434 | AA14: 64 | AB14: 690
... A32: 国産の定番アクセス解析ツール「Visionalist」をレビューしました - リアルアクセス解析 | B32: 80 | C32: 91 | D32: 11 | E32: 109 | F32: 2185 | G32: 91 | H32: 15 | I32: 180 | K32: referral | L32: e0166.blog89.fc2.com | M32: 8 | N32: 16 | O32: 2 | P32: 16 | Q32: 0 | R32: 0 | S32: 9 | T32: 90 | V32: 20110430 | W32: 202 | X32: 247 | Y32: 36 | Z32: 247 | AA32: 21 | AB32: 240
A33: 端末識別番号とアクセスログの悩ましい関係 - リアルアクセス解析 | B33: 77 | C33: 88 | D33: 14 | E33: 101 | F33: 3259 | G33: 88 | H33: 11 | I33: 110 | K33: referral | L33: dailynews.yahoo.co.jp | M33: 9 | N33: 15 | O33: 0 | P33: 15 | Q33: 0 | R33: 0 | S33: 2 | T33: 30
A34: アクセス解析がダメな７つの理由（前半） - リアルアクセス解析 | B34: 40 | C34: 62 | D34: 8 | E34: 99 | F34: 9234 | G34: 62 | H34: 36 | I34: 370 | K34: referral | L34: www6.ocn.ne.jp | M34: 15 | N34: 15 | O34: 0 | P34: 15 | Q34: 0 | R34: 0 | S34: 0 | T34: 0
A35: 2010-10-02 - リアルアクセス解析 | B35: 19 | C35: 24 | D35: 4 | E35: 95 | F35: 4792 | G35: 24 | H35: 35 | I35: 400 | K35: referral | L35: appofit.com | M35: 11 | N35: 14 | O35: 3 | P35: 14 | Q35: 0 | R35: 0 | S35: 6 | T35: 80
A36: アクセス解析だけでは分からない、サイト上でのユーザー動向を追うツール８＋２種 - リアルアクセス解析 | B36: 40 | C36: 50 | D36: 9 | E36: 78 | F36: 3876 | G36: 50 | H36: 18 | I36: 200 | K36: referral | L36: delicious.com | M36: 13 | N36: 14 | O36: 0 | P36: 14 | Q36: 0 | R36: 0 | S36: 0 | T36: 0
A37: ブログ情報 - リアルアクセス解析 | B37: 8 | C37: 18 | D37: 3 | E37: 78 | F37: 4421 | G37: 18 | H37: 33 | I37: 360 | K37: referral | L37: buzzurl.jp | M37: 11 | N37: 13 | O37: 4 | P37: 13 | Q37: 0 | R37: 0 | S37: 1 | T37: 10
A38: 「自ドメインの短縮URLを取得してクリック分析を行う「Yourls」とGoogle Analyticsの組み合わせ分析！」（第7回 -アクセス解析＋α） - リアルアクセス解析 | B38: 44 | C38: 53 | D38: 14 | E38: 76 | F38: 3685 | G38: 53 | H38: 12 | I38: 120 | K38: referral | L38: ime.nu | M38: 13 | N38: 13 | O38: 0 | P38: 13 | Q38: 0 | R38: 0 | S38: 0 | T38: 0
A39: 【5min.ウェブ分析法】 その1:入り口ページでは直帰率を、新規とリピーターに分けてチェックしましょう - リアルアクセス解析 | B39: 18 | C39: 26 | D39: 2 | E39: 74 | F39: 4748 | G39: 26 | H39: 37 | I39: 380 | K39: referral | L39: listing-community.jp | M39: 6 | N39: 13 | O39: 2 | P39: 13 | Q39: 0 | R39: 0 | S39: 4 | T39: 40
A40: アクセス解析：直帰率 - リアルアクセス解析 | B40: 57 | C40: 63 | D40: 16 | E40: 74 | F40: 2240 | G40: 63 | H40: 6 | I40: 60 | K40: referral | L40: m.facebook.com | M40: 8 | N40: 13 | O40: 9 | P40: 13 | Q40: 0 | R40: 0 | S40: 0 | T40: 0
A41: 2011/4/6 ～ 2011/4/13のアクセス解析関連記事 - リアルアクセス解析 | B41: 41 | C41: 47 | D41: 5 | E41: 70 | F41: 2880 | G41: 47 | H41: 11 | I41: 110 | K41: referral | L41: mylifelog.sunnyday.jp | M41: 13 | N41: 13 | O41: 0 | P41: 13 | Q41: 0 | R41: 0 | S41: 0 | T41: 0
A42: 2011/4/13～ 2011/4/21のアクセス解析関連記事 - リアルアクセス解析 | B42: 46 | C42: 53 | D42: 3 | E42: 68 | F42: 2398 | G42: 53 | H42: 15 | I42: 150 | K42: twitter | L42: blog | M42: 12 | N42: 13 | O42: 2 | P42: 13 | Q42: 0 | R42: 0 | S42: 2 | T42: 20
A43: 2011-04-01 - リアルアクセス解析 | B43: 58 | C43: 66 | D43: 9 | E43: 67 | F43: 856 | G43: 66 | H43: 1 | I43: 10 | K43: referral | L43: ameblo.jp | M43: 8 | N43: 11 | O43: 2 | P43: 11 | Q43: 0 | R43: 0 | S43: 1 | T43: 10
A44: 「Google Analytics認定試験」に受かるために参考になりそうなサイトや本 - リアルアクセス解析 | B44: 45 | C44: 55 | D44: 9 | E44: 66 | F44: 5066 | G44: 55 | H44: 12 | I44: 120 | K44: referral | L44: anond.hatelabo.jp | M44: 11 | N44: 11 | O44: 0 | P44: 11 | Q44: 0 | R44: 0 | S44: 0 | T44: 0
... A52: GoogleAnalyticsの新機能「加重並びかえ」の仕様と活用方法 - リアルアクセス解析 | B52: 28 | C52: 34 | D52: 5 | E52: 44 | F52: 3273 | G52: 34 | H52: 12 | I52: 160 | K52: referral | L52: togetter.com | M52: 8 | N52: 10 | O52: 1 | P52: 10 | Q52: 0 | R52: 0 | S52: 0 | T52: 0
K53: referral | L53: twipple.jp | M53: 10 | N53: 10 | O53: 3 | P53: 10 | Q53: 0 | R53: 0 | S53: 0 | T53: 0
K54: referral | L54: analytics.ryow.net | M54: 5 | N54: 9 | O54: 0 | P54: 9 | Q54: 0 | R54: 0 | S54: 2 | T54: 20
K55: referral | L55: golgo31.net | M55: 9 | N55: 9 | O55: 0 | P55: 9 | Q55: 0 | R55: 0 | S55: 0 | T55: 0
K56: referral | L56: lifehacker.jp | M56: 8 | N56: 9 | O56: 0 | P56: 9 | Q56: 0 | R56: 0 | S56: 1 | T56: 10
K57: referral | L57: comfortmarketing.jp | M57: 3 | N57: 8 | O57: 2 | P57: 8 | Q57: 0 | R57: 0 | S57: 2 | T57: 20
K58: referral | L58: favotter.net | M58: 8 | N58: 8 | O58: 0 | P58: 8 | Q58: 0 | R58: 0 | S58: 0 | T58: 0
K59: referral | L59: geocities.jp | M59: 8 | N59: 8 | O59: 0 | P59: 8 | Q59: 0 | R59: 0 | S59: 0 | T59: 0
K60: referral | L60: homepage1.nifty.com | M60: 2 | N60: 8 | O60: 0 | P60: 8 | Q60: 0 | R60: 0 | S60: 0 | T60: 0
K61: referral | L61: my.yahoo.co.jp | M61: 5 | N61: 8 | O61: 2 | P61: 8 | Q61: 0 | R61: 0 | S61: 4 | T61: 40
K62: referral | L62: news.livedoor.com | M62: 4 | N62: 8 | O62: 0 | P62: 8 | Q62: 0 | R62: 0 | S62: 4 | T62: 50
K63: referral | L63: wired2u.net | M63: 7 | N63: 8 | O63: 0 | P63: 8 | Q63: 0 | R63: 0 | S63: 1 | T63: 10
K64: referral | L64: instapaper.com | M64: 6 | N64: 7 | O64: 0 | P64: 7 | Q64: 0 | R64: 0 | S64: 1 | T64: 10
...

Sheet OutputData
A1: ページ分析レポート | I1: 集客分析レポート | R1: 日別モニタリングレポート
A2: ページ名 | B2: 直帰率 | C2: 新規率 | D2: CVR貢献 | E2: 売上/貢献 | F2: PV数 | I2: 流入タイプ | J2: 流入ソース | K2: 直帰率 | L2: 新規率 | M2: CVR貢献 | N2: CPC | O2: 売上/貢献 | P2: 訪問回数 | R2: 日にち | S2: 直帰率 | T2: 新規率 | U2: CV数 | V2: CV率 | W2: 売上/貢献 | X2: 訪問回数
A3: =DataCreation!A3 -> Twitter解析ツール１５種比較レビュー - リアルアクセス解析 | B3: =DataCreation!B3/DataCreation!C3 -> 0.75381264 | C3: =DataCreation!D3/DataCreation!F3 -> 0.0022222298 | D3: =DataCreation!G3/DataCreation!F3 -> 0.012592636 | E3: =DataCreation!H3/DataCreation!G3 -> 0.19798475 | F3: =DataCreation!E3 -> 4559 | I3: =DataCreation!K3 -> organic | J3: =DataCreation!L3 -> google | K3: =DataCreation!M3/DataCreation!N3 -> 0.77173303 | L3: =DataCreation!O3/DataCreation!P3 -> 0.14582165 | M3: =DataCreation!S3/DataCreation!P3 -> 0.11287156 | N3: =DataCreation!R3/DataCreation!Q3 -> #DIV/0! | O3: =DataCreation!T3/DataCreation!S3 -> 10.546584 | P3: =DataCreation!P3 -> 7132 | R3: =DataCreation!V3 -> 20110401 | S3: =DataCreation!W3/DataCreation!X3 -> 0.83416252 | T3: =DataCreation!Y3/DataCreation!Z3 -> 0.17412935 | U3: =DataCreation!AA3 -> 49 | V3: =DataCreation!AA3/DataCreation!Z3 -> 0.081260365 | W3: =DataCreation!AB3/DataCreation!AA3 -> 10.204082 | X3: =DataCreation!Z3 -> 603
A4: =DataCreation!A4 -> Twitter解析をしたい全ての人へ。無料ツイッター解析ツール「TwiTraq」レビュー - リアルアクセス解析 | B4: =DataCreation!B4/DataCreation!C4 -> 0.71744054 | C4: =DataCreation!D4/DataCreation!F4 -> 0.0022271116 | D4: =DataCreation!G4/DataCreation!F4 -> 0.011882414 | E4: =DataCreation!H4/DataCreation!G4 -> 0.29558324 | F4: =DataCreation!E4 -> 2642 | I4: =DataCreation!K4 -> organic | J4: =DataCreation!L4 -> yahoo | K4: =DataCreation!M4/DataCreation!N4 -> 0.79861111 | L4: =DataCreation!O4/DataCreation!P4 -> 0.21464646 | M4: =DataCreation!S4/DataCreation!P4 -> 0.090909091 | N4: =DataCreation!R4/DataCreation!Q4 -> #DIV/0! | O4: =DataCreation!T4/DataCreation!S4 -> 10.555556 | P4: =DataCreation!P4 -> 1584 | R4: =DataCreation!V4 -> 20110402 | S4: =DataCreation!W4/DataCreation!X4 -> 0.7734375 | T4: =DataCreation!Y4/DataCreation!Z4 -> 0.1953125 | U4: =DataCreation!AA4 -> 24 | V4: =DataCreation!AA4/DataCreation!Z4 -> 0.09375 | W4: =DataCreation!AB4/DataCreation!AA4 -> 10 | X4: =DataCreation!Z4 -> 256
A5: =DataCreation!A5 -> リアルアクセス解析 | B5: =DataCreation!B5/DataCreation!C5 -> 0.75171468 | C5: =DataCreation!D5/DataCreation!F5 -> 0.0014296475 | D5: =DataCreation!G5/DataCreation!F5 -> 0.011206592 | E5: =DataCreation!H5/DataCreation!G5 -> 0.46502058 | F5: =DataCreation!E5 -> 1184 | I5: =DataCreation!K5 -> (none) | J5: =DataCreation!L5 -> (direct) | K5: =DataCreation!M5/DataCreation!N5 -> 0.85006878 | L5: =DataCreation!O5/DataCreation!P5 -> 0.61348006 | M5: =DataCreation!S5/DataCreation!P5 -> 0.078404402 | N5: =DataCreation!R5/DataCreation!Q5 -> #DIV/0! | O5: =DataCreation!T5/DataCreation!S5 -> 10.877193 | P5: =DataCreation!P5 -> 727 | R5: =DataCreation!V5 -> 20110403 | S5: =DataCreation!W5/DataCreation!X5 -> 0.7826087 | T5: =DataCreation!Y5/DataCreation!Z5 -> 0.24505929 | U5: =DataCreation!AA5 -> 18 | V5: =DataCreation!AA5/DataCreation!Z5 -> 0.071146245 | W5: =DataCreation!AB5/DataCreation!AA5 -> 10 | X5: =DataCreation!Z5 -> 253
A6: =DataCreation!A6 -> ウェブ分析をする上で大切な「4つの視点」と「１つのサイクル」 - リアルアクセス解析 | B6: =DataCreation!B6/DataCreation!C6 -> 0.89855072 | C6: =DataCreation!D6/DataCreation!F6 -> 0.0025183717 | D6: =DataCreation!G6/DataCreation!F6 -> 0.0227892 | E6: =DataCreation!H6/DataCreation!G6 -> 0.12681159 | F6: =DataCreation!E6 -> 622 | I6: =DataCreation!K6 -> referral | J6: =DataCreation!L6 -> twitter.com | K6: =DataCreation!M6/DataCreation!N6 -> 0.83333333 | L6: =DataCreation!O6/DataCreation!P6 -> 0.083333333 | M6: =DataCreation!S6/DataCreation!P6 -> 0.13141026 | N6: =DataCreation!R6/DataCreation!Q6 -> #DIV/0! | O6: =DataCreation!T6/DataCreation!S6 -> 11.463415 | P6: =DataCreation!P6 -> 312 | R6: =DataCreation!V6 -> 20110404 | S6: =DataCreation!W6/DataCreation!X6 -> 0.81367925 | T6: =DataCreation!Y6/DataCreation!Z6 -> 0.20283019 | U6: =DataCreation!AA6 -> 38 | V6: =DataCreation!AA6/DataCreation!Z6 -> 0.089622642 | W6: =DataCreation!AB6/DataCreation!AA6 -> 10.789474 | X6: =DataCreation!Z6 -> 424
A7: =DataCreation!A7 -> 「アトリビューション分析」連載 その3：アトリビューション評価に必要なデータ その１ - リアルアクセス解析 | B7: =DataCreation!B7/DataCreation!C7 -> 0.72 | C7: =DataCreation!D7/DataCreation!F7 -> 0.0019259473 | D7: =DataCreation!G7/DataCreation!F7 -> 0.015648322 | E7: =DataCreation!H7/DataCreation!G7 -> 0.30153846 | F7: =DataCreation!E7 -> 455 | I7: =DataCreation!K7 -> referral | J7: =DataCreation!L7 -> google.co.jp | K7: =DataCreation!M7/DataCreation!N7 -> 0.79151943 | L7: =DataCreation!O7/DataCreation!P7 -> 0.09540636 | M7: =DataCreation!S7/DataCreation!P7 -> 0.14134276 | N7: =DataCreation!R7/DataCreation!Q7 -> #DIV/0! | O7: =DataCreation!T7/DataCreation!S7 -> 11.5 | P7: =DataCreation!P7 -> 283 | R7: =DataCreation!V7 -> 20110405 | S7: =DataCreation!W7/DataCreation!X7 -> 0.78347107 | T7: =DataCreation!Y7/DataCreation!Z7 -> 0.17520661 | U7: =DataCreation!AA7 -> 91 | V7: =DataCreation!AA7/DataCreation!Z7 -> 0.15041322 | W7: =DataCreation!AB7/DataCreation!AA7 -> 10.659341 | X7: =DataCreation!Z7 -> 605
A8: =DataCreation!A8 -> 無料で始める、企業向けTwitter分析術 - リアルアクセス解析 | B8: =DataCreation!B8/DataCreation!C8 -> 0.64049587 | C8: =DataCreation!D8/DataCreation!F8 -> 0.00089844155 | D8: =DataCreation!G8/DataCreation!F8 -> 0.0083624175 | E8: =DataCreation!H8/DataCreation!G8 -> 0.57438017 | F8: =DataCreation!E8 -> 391 | I8: =DataCreation!K8 -> referral | J8: =DataCreation!L8 -> a2i.jp | K8: =DataCreation!M8/DataCreation!N8 -> 0.75289575 | L8: =DataCreation!O8/DataCreation!P8 -> 0.1042471 | M8: =DataCreation!S8/DataCreation!P8 -> 0.21621622 | N8: =DataCreation!R8/DataCreation!Q8 -> #DIV/0! | O8: =DataCreation!T8/DataCreation!S8 -> 10.535714 | P8: =DataCreation!P8 -> 259 | R8: =DataCreation!V8 -> 20110406 | S8: =DataCreation!W8/DataCreation!X8 -> 0.73704415 | T8: =DataCreation!Y8/DataCreation!Z8 -> 0.19385797 | U8: =DataCreation!AA8 -> 77 | V8: =DataCreation!AA8/DataCreation!Z8 -> 0.14779271 | W8: =DataCreation!AB8/DataCreation!AA8 -> 10.909091 | X8: =DataCreation!Z8 -> 521
A9: =DataCreation!A9 -> 「アトリビューション分析」連載 その1：アトリビューションとは？ - リアルアクセス解析 | B9: =DataCreation!B9/DataCreation!C9 -> 0.58695652 | C9: =DataCreation!D9/DataCreation!F9 -> 0.0012553734 | D9: =DataCreation!G9/DataCreation!F9 -> 0.0069996576 | E9: =DataCreation!H9/DataCreation!G9 -> 0.88586957 | F9: =DataCreation!E9 -> 360 | I9: =DataCreation!K9 -> referral | J9: =DataCreation!L9 -> b.hatena.ne.jp | K9: =DataCreation!M9/DataCreation!N9 -> 0.80379747 | L9: =DataCreation!O9/DataCreation!P9 -> 0.044303797 | M9: =DataCreation!S9/DataCreation!P9 -> 0.11392405 | N9: =DataCreation!R9/DataCreation!Q9 -> #DIV/0! | O9: =DataCreation!T9/DataCreation!S9 -> 10.555556 | P9: =DataCreation!P9 -> 158 | R9: =DataCreation!V9 -> 20110407 | S9: =DataCreation!W9/DataCreation!X9 -> 0.77777778 | T9: =DataCreation!Y9/DataCreation!Z9 -> 0.19212963 | U9: =DataCreation!AA9 -> 39 | V9: =DataCreation!AA9/DataCreation!Z9 -> 0.090277778 | W9: =DataCreation!AB9/DataCreation!AA9 -> 10.25641 | X9: =DataCreation!Z9 -> 432
A10: =DataCreation!A10 -> 本当にユーザーを特定するアクセス解析ツール「User Identification Analytics」 - リアルアクセス解析 | B10: =DataCreation!B10/DataCreation!C10 -> 0.86311787 | C10: =DataCreation!D10/DataCreation!F10 -> 0.0090877316 | D10: =DataCreation!G10/DataCreation!F10 -> 0.04596295 | E10: =DataCreation!H10/DataCreation!G10 -> 0.11787072 | F10: =DataCreation!E10 -> 305 | I10: =DataCreation!K10 -> referral | J10: =DataCreation!L10 -> facebook.com | K10: =DataCreation!M10/DataCreation!N10 -> 0.51973684 | L10: =DataCreation!O10/DataCreation!P10 -> 0.072368421 | M10: =DataCreation!S10/DataCreation!P10 -> 0.375 | N10: =DataCreation!R10/DataCreation!Q10 -> #DIV/0! | O10: =DataCreation!T10/DataCreation!S10 -> 10.350877 | P10: =DataCreation!P10 -> 152 | R10: =DataCreation!V10 -> 20110408 | S10: =DataCreation!W10/DataCreation!X10 -> 0.77363184 | T10: =DataCreation!Y10/DataCreation!Z10 -> 0.17910448 | U10: =DataCreation!AA10 -> 49 | V10: =DataCreation!AA10/DataCreation!Z10 -> 0.12189055 | W10: =DataCreation!AB10/DataCreation!AA10 -> 11.22449 | X10: =DataCreation!Z10 -> 402
A11: =DataCreation!A11 -> GoogleAnalyticsのデータから、無料で「使える」分析レポートが作成出来る『Arest（アレスト）』レビュー - リアルアクセス解析 | B11: =DataCreation!B11/DataCreation!C11 -> 0.89385475 | C11: =DataCreation!D11/DataCreation!F11 -> 0.0030866705 | D11: =DataCreation!G11/DataCreation!F11 -> 0.014539842 | E11: =DataCreation!H11/DataCreation!G11 -> 0.27932961 | F11: =DataCreation!E11 -> 270 | I11: =DataCreation!K11 -> blog | J11: =DataCreation!L11 -> blog | K11: =DataCreation!M11/DataCreation!N11 -> 0.90833333 | L11: =DataCreation!O11/DataCreation!P11 -> 0.125 | M11: =DataCreation!S11/DataCreation!P11 -> 0.075 | N11: =DataCreation!R11/DataCreation!Q11 -> #DIV/0! | O11: =DataCreation!T11/DataCreation!S11 -> 13.333333 | P11: =DataCreation!P11 -> 120 | R11: =DataCreation!V11 -> 20110409 | S11: =DataCreation!W11/DataCreation!X11 -> 0.71985816 | T11: =DataCreation!Y11/DataCreation!Z11 -> 0.19148936 | U11: =DataCreation!AA11 -> 32 | V11: =DataCreation!AA11/DataCreation!Z11 -> 0.11347518 | W11: =DataCreation!AB11/DataCreation!AA11 -> 10.3125 | X11: =DataCreation!Z11 -> 282
A12: =DataCreation!A12 -> GoogleAnalyticsに１クリックで反映！本当に使える３つのカスタムレポート - リアルアクセス解析 | B12: =DataCreation!B12/DataCreation!C12 -> 0.80272109 | C12: =DataCreation!D12/DataCreation!F12 -> 0.002019223 | D12: =DataCreation!G12/DataCreation!F12 -> 0.011873031 | E12: =DataCreation!H12/DataCreation!G12 -> 0.30612245 | F12: =DataCreation!E12 -> 251 | I12: =DataCreation!K12 -> referral | J12: =DataCreation!L12 -> reader.livedoor.com | K12: =DataCreation!M12/DataCreation!N12 -> 0.68224299 | L12: =DataCreation!O12/DataCreation!P12 -> 0.056074766 | M12: =DataCreation!S12/DataCreation!P12 -> 0.074766355 | N12: =DataCreation!R12/DataCreation!Q12 -> #DIV/0! | O12: =DataCreation!T12/DataCreation!S12 -> 11.25 | P12: =DataCreation!P12 -> 107 | R12: =DataCreation!V12 -> 20110410 | S12: =DataCreation!W12/DataCreation!X12 -> 0.76497696 | T12: =DataCreation!Y12/DataCreation!Z12 -> 0.17511521 | U12: =DataCreation!AA12 -> 25 | V12: =DataCreation!AA12/DataCreation!Z12 -> 0.11520737 | W12: =DataCreation!AB12/DataCreation!AA12 -> 10 | X12: =DataCreation!Z12 -> 217
A13: =DataCreation!A13 -> SEOとリスティングの比較（閲覧率やクリック率等） - リアルアクセス解析 | B13: =DataCreation!B13/DataCreation!C13 -> 0.84285714 | C13: =DataCreation!D13/DataCreation!F13 -> 0.0040025471 | D13: =DataCreation!G13/DataCreation!F13 -> 0.019103066 | E13: =DataCreation!H13/DataCreation!G13 -> 0.13333333 | F13: =DataCreation!E13 -> 249 | I13: =DataCreation!K13 -> organic | J13: =DataCreation!L13 -> bing | K13: =DataCreation!M13/DataCreation!N13 -> 0.7173913 | L13: =DataCreation!O13/DataCreation!P13 -> 0.31521739 | M13: =DataCreation!S13/DataCreation!P13 -> 0.11956522 | N13: =DataCreation!R13/DataCreation!Q13 -> #DIV/0! | O13: =DataCreation!T13/DataCreation!S13 -> 10 | P13: =DataCreation!P13 -> 92 | R13: =DataCreation!V13 -> 20110411 | S13: =DataCreation!W13/DataCreation!X13 -> 0.76297968 | T13: =DataCreation!Y13/DataCreation!Z13 -> 0.16704289 | U13: =DataCreation!AA13 -> 55 | V13: =DataCreation!AA13/DataCreation!Z13 -> 0.1241535 | W13: =DataCreation!AB13/DataCreation!AA13 -> 10.909091 | X13: =DataCreation!Z13 -> 443
A14: =DataCreation!A14 -> アクセス解析やTwitter分析など、3年間でレビューした100個のツールをまとめた『ウェブ分析ツール大全』を公開！ - リアルアクセス解析 | B14: =DataCreation!B14/DataCreation!C14 -> 0.73026316 | C14: =DataCreation!D14/DataCreation!F14 -> 0.0013791835 | D14: =DataCreation!G14/DataCreation!F14 -> 0.013975726 | E14: =DataCreation!H14/DataCreation!G14 -> 0.42763158 | F14: =DataCreation!E14 -> 243 | I14: =DataCreation!K14 -> referral | J14: =DataCreation!L14 -> google.com | K14: =DataCreation!M14/DataCreation!N14 -> 0.85227273 | L14: =DataCreation!O14/DataCreation!P14 -> 0.125 | M14: =DataCreation!S14/DataCreation!P14 -> 0.068181818 | N14: =DataCreation!R14/DataCreation!Q14 -> #DIV/0! | O14: =DataCreation!T14/DataCreation!S14 -> 10 | P14: =DataCreation!P14 -> 88 | R14: =DataCreation!V14 -> 20110412 | S14: =DataCreation!W14/DataCreation!X14 -> 0.7718894 | T14: =DataCreation!Y14/DataCreation!Z14 -> 0.18202765 | U14: =DataCreation!AA14 -> 64 | V14: =DataCreation!AA14/DataCreation!Z14 -> 0.14746544 | W14: =DataCreation!AB14/DataCreation!AA14 -> 10.78125 | X14: =DataCreation!Z14 -> 434
... A24: =DataCreation!A24 -> 記事一覧 - リアルアクセス解析 | B24: =DataCreation!B24/DataCreation!C24 -> 0.45833333 | C24: =DataCreation!D24/DataCreation!F24 -> 0.00032185388 | D24: =DataCreation!G24/DataCreation!F24 -> 0.0077244931 | E24: =DataCreation!H24/DataCreation!G24 -> 6 | F24: =DataCreation!E24 -> 150 | I24: =DataCreation!K24 -> referral | J24: =DataCreation!L24 -> uneidou.com | K24: =DataCreation!M24/DataCreation!N24 -> 0.55555556 | L24: =DataCreation!O24/DataCreation!P24 -> 0.074074074 | M24: =DataCreation!S24/DataCreation!P24 -> 0.33333333 | N24: =DataCreation!R24/DataCreation!Q24 -> #DIV/0! | O24: =DataCreation!T24/DataCreation!S24 -> 10 | P24: =DataCreation!P24 -> 27 | R24: =DataCreation!V24 -> 20110422 | S24: =DataCreation!W24/DataCreation!X24 -> 0.83503055 | T24: =DataCreation!Y24/DataCreation!Z24 -> 0.14460285 | U24: =DataCreation!AA24 -> 46 | V24: =DataCreation!AA24/DataCreation!Z24 -> 0.093686354 | W24: =DataCreation!AB24/DataCreation!AA24 -> 10.869565 | X24: =DataCreation!Z24 -> 491
A25: =DataCreation!A25 -> アクセス解析：訪問回数（セッション数） - リアルアクセス解析 | B25: =DataCreation!B25/DataCreation!C25 -> 0.82677165 | C25: =DataCreation!D25/DataCreation!F25 -> 0.0042244001 | D25: =DataCreation!G25/DataCreation!F25 -> 0.021459953 | E25: =DataCreation!H25/DataCreation!G25 -> 0.14173228 | F25: =DataCreation!E25 -> 146 | I25: =DataCreation!K25 -> referral | J25: =DataCreation!L25 -> markezine.jp | K25: =DataCreation!M25/DataCreation!N25 -> 0.69230769 | L25: =DataCreation!O25/DataCreation!P25 -> 0.15384615 | M25: =DataCreation!S25/DataCreation!P25 -> 0.076923077 | N25: =DataCreation!R25/DataCreation!Q25 -> #DIV/0! | O25: =DataCreation!T25/DataCreation!S25 -> 15 | P25: =DataCreation!P25 -> 26 | R25: =DataCreation!V25 -> 20110423 | S25: =DataCreation!W25/DataCreation!X25 -> 0.74538745 | T25: =DataCreation!Y25/DataCreation!Z25 -> 0.15867159 | U25: =DataCreation!AA25 -> 22 | V25: =DataCreation!AA25/DataCreation!Z25 -> 0.081180812 | W25: =DataCreation!AB25/DataCreation!AA25 -> 10.909091 | X25: 2219
A26: =DataCreation!A26 -> ブログサービスが提供する「アクセス解析機能」を徹底レビュー＆採点 - リアルアクセス解析 | B26: =DataCreation!B26/DataCreation!C26 -> 0.97692308 | C26: =DataCreation!D26/DataCreation!F26 -> 0.011714174 | D26: =DataCreation!G26/DataCreation!F26 -> 0.050761421 | E26: =DataCreation!H26/DataCreation!G26 -> 0.038461538 | F26: =DataCreation!E26 -> 134 | I26: =DataCreation!K26 -> referral | J26: =DataCreation!L26 -> search.goo.ne.jp | K26: =DataCreation!M26/DataCreation!N26 -> 0.84615385 | L26: =DataCreation!O26/DataCreation!P26 -> 0.26923077 | M26: =DataCreation!S26/DataCreation!P26 -> 0.15384615 | N26: =DataCreation!R26/DataCreation!Q26 -> #DIV/0! | O26: =DataCreation!T26/DataCreation!S26 -> 10 | P26: =DataCreation!P26 -> 26 | R26: =DataCreation!V26 -> 20110424 | S26: =DataCreation!W26/DataCreation!X26 -> 0.79007634 | T26: =DataCreation!Y26/DataCreation!Z26 -> 0.17938931 | U26: =DataCreation!AA26 -> 21 | V26: =DataCreation!AA26/DataCreation!Z26 -> 0.080152672 | W26: =DataCreation!AB26/DataCreation!AA26 -> 10 | X26: =DataCreation!Z26 -> 262
A27: =DataCreation!A27 -> 「アトリビューション分析」連載 その4：アトリビューション評価に必要なデータ その2 - リアルアクセス解析 | B27: =DataCreation!B27/DataCreation!C27 -> 0.72072072 | C27: =DataCreation!D27/DataCreation!F27 -> 0.0012599748 | D27: =DataCreation!G27/DataCreation!F27 -> 0.015539689 | E27: =DataCreation!H27/DataCreation!G27 -> 0.31531532 | F27: =DataCreation!E27 -> 131 | I27: =DataCreation!K27 -> referral | J27: =DataCreation!L27 -> hatena.ne.jp | K27: =DataCreation!M27/DataCreation!N27 -> 0.84 | L27: =DataCreation!O27/DataCreation!P27 -> 0 | M27: =DataCreation!S27/DataCreation!P27 -> 0.2 | N27: =DataCreation!R27/DataCreation!Q27 -> #DIV/0! | O27: =DataCreation!T27/DataCreation!S27 -> 16 | P27: =DataCreation!P27 -> 25 | R27: =DataCreation!V27 -> 20110425 | S27: =DataCreation!W27/DataCreation!X27 -> 0.77042802 | T27: =DataCreation!Y27/DataCreation!Z27 -> 0.1459144 | U27: =DataCreation!AA27 -> 68 | V27: =DataCreation!AA27/DataCreation!Z27 -> 0.13229572 | W27: =DataCreation!AB27/DataCreation!AA27 -> 11.029412 | X27: =DataCreation!Z27 -> 514
A28: =DataCreation!A28 -> Google Analyticsの対抗馬？「Yahoo!アクセス解析」使用レポート - リアルアクセス解析 | B28: =DataCreation!B28/DataCreation!C28 -> 0.86956522 | C28: =DataCreation!D28/DataCreation!F28 -> 0.0066225166 | D28: =DataCreation!G28/DataCreation!F28 -> 0.023799669 | E28: =DataCreation!H28/DataCreation!G28 -> 0.15652174 | F28: =DataCreation!E28 -> 128 | I28: =DataCreation!K28 -> referral | J28: =DataCreation!L28 -> detail.chiebukuro.yahoo.co.jp | K28: =DataCreation!M28/DataCreation!N28 -> 0.95238095 | L28: =DataCreation!O28/DataCreation!P28 -> 0.33333333 | M28: =DataCreation!S28/DataCreation!P28 -> 0.047619048 | N28: =DataCreation!R28/DataCreation!Q28 -> #DIV/0! | O28: =DataCreation!T28/DataCreation!S28 -> 10 | P28: =DataCreation!P28 -> 21 | R28: =DataCreation!V28 -> 20110426 | S28: =DataCreation!W28/DataCreation!X28 -> 0.75906183 | T28: =DataCreation!Y28/DataCreation!Z28 -> 0.13646055 | U28: =DataCreation!AA28 -> 67 | V28: =DataCreation!AA28/DataCreation!Z28 -> 0.14285714 | W28: =DataCreation!AB28/DataCreation!AA28 -> 10.746269 | X28: =DataCreation!Z28 -> 469
A29: =DataCreation!A29 -> 2011/3/30 ～ 2011/4/5のアクセス解析関連記事 - リアルアクセス解析 | B29: =DataCreation!B29/DataCreation!C29 -> 0.73958333 | C29: =DataCreation!D29/DataCreation!F29 -> 0.0020804438 | D29: =DataCreation!G29/DataCreation!F29 -> 0.01331484 | E29: =DataCreation!H29/DataCreation!G29 -> 0.25 | F29: =DataCreation!E29 -> 127 | I29: =DataCreation!K29 -> referral | J29: =DataCreation!L29 -> sem-labo.net | K29: =DataCreation!M29/DataCreation!N29 -> 0.75 | L29: =DataCreation!O29/DataCreation!P29 -> 0.15 | M29: =DataCreation!S29/DataCreation!P29 -> 0.4 | N29: =DataCreation!R29/DataCreation!Q29 -> #DIV/0! | O29: =DataCreation!T29/DataCreation!S29 -> 12.5 | P29: =DataCreation!P29 -> 20 | R29: =DataCreation!V29 -> 20110427 | S29: =DataCreation!W29/DataCreation!X29 -> 0.74654378 | T29: =DataCreation!Y29/DataCreation!Z29 -> 0.16820276 | U29: =DataCreation!AA29 -> 57 | V29: =DataCreation!AA29/DataCreation!Z29 -> 0.13133641 | W29: =DataCreation!AB29/DataCreation!AA29 -> 10.701754 | X29: =DataCreation!Z29 -> 434
A30: =DataCreation!A30 -> RSSリーダーに登録しているアクセス解析関連ブログ一覧（英語版） - リアルアクセス解析 | B30: =DataCreation!B30/DataCreation!C30 -> 0.89108911 | C30: =DataCreation!D30/DataCreation!F30 -> 0.0027705948 | D30: =DataCreation!G30/DataCreation!F30 -> 0.018655338 | E30: =DataCreation!H30/DataCreation!G30 -> 0.21782178 | F30: =DataCreation!E30 -> 126 | I30: =DataCreation!K30 -> referral | J30: =DataCreation!L30 -> logmania.masakiplus.net | K30: =DataCreation!M30/DataCreation!N30 -> 0.47368421 | L30: =DataCreation!O30/DataCreation!P30 -> 0 | M30: =DataCreation!S30/DataCreation!P30 -> 0.10526316 | N30: =DataCreation!R30/DataCreation!Q30 -> #DIV/0! | O30: =DataCreation!T30/DataCreation!S30 -> 15 | P30: =DataCreation!P30 -> 19
A31: =DataCreation!A31 -> アクセス解析に便利なFirefoxアドオン10選＋αを使って評価してみた - リアルアクセス解析 | B31: =DataCreation!B31/DataCreation!C31 -> 0.75824176 | C31: =DataCreation!D31/DataCreation!F31 -> 0.0045427902 | D31: =DataCreation!G31/DataCreation!F31 -> 0.013335287 | E31: =DataCreation!H31/DataCreation!G31 -> 0.28571429 | F31: =DataCreation!E31 -> 119 | I31: =DataCreation!K31 -> referral | J31: =DataCreation!L31 -> s.luna.tv | K31: =DataCreation!M31/DataCreation!N31 -> 0.82352941 | L31: =DataCreation!O31/DataCreation!P31 -> 0.17647059 | M31: =DataCreation!S31/DataCreation!P31 -> 0.29411765 | N31: =DataCreation!R31/DataCreation!Q31 -> #DIV/0! | O31: =DataCreation!T31/DataCreation!S31 -> 10 | P31: =DataCreation!P31 -> 17
A32: =DataCreation!A32 -> 国産の定番アクセス解析ツール「Visionalist」をレビューしました - リアルアクセス解析 | B32: =DataCreation!B32/DataCreation!C32 -> 0.87912088 | C32: =DataCreation!D32/DataCreation!F32 -> 0.0050343249 | D32: =DataCreation!G32/DataCreation!F32 -> 0.041647597 | E32: =DataCreation!H32/DataCreation!G32 -> 0.16483516 | F32: =DataCreation!E32 -> 109 | I32: =DataCreation!K32 -> referral | J32: =DataCreation!L32 -> e0166.blog89.fc2.com | K32: =DataCreation!M32/DataCreation!N32 -> 0.5 | L32: =DataCreation!O32/DataCreation!P32 -> 0.125 | M32: =DataCreation!S32/DataCreation!P32 -> 0.5625 | N32: =DataCreation!R32/DataCreation!Q32 -> #DIV/0! | O32: =DataCreation!T32/DataCreation!S32 -> 10 | P32: =DataCreation!P32 -> 16
A33: =DataCreation!A33 -> 端末識別番号とアクセスログの悩ましい関係 - リアルアクセス解析 | B33: =DataCreation!B33/DataCreation!C33 -> 0.875 | C33: =DataCreation!D33/DataCreation!F33 -> 0.0042957963 | D33: =DataCreation!G33/DataCreation!F33 -> 0.027002148 | E33: =DataCreation!H33/DataCreation!G33 -> 0.125 | F33: =DataCreation!E33 -> 101 | I33: =DataCreation!K33 -> referral | J33: =DataCreation!L33 -> dailynews.yahoo.co.jp | K33: =DataCreation!M33/DataCreation!N33 -> 0.6 | L33: =DataCreation!O33/DataCreation!P33 -> 0 | M33: =DataCreation!S33/DataCreation!P33 -> 0.13333333 | N33: =DataCreation!R33/DataCreation!Q33 -> #DIV/0! | O33: =DataCreation!T33/DataCreation!S33 -> 15 | P33: =DataCreation!P33 -> 15
A34: =DataCreation!A34 -> アクセス解析がダメな７つの理由（前半） - リアルアクセス解析 | B34: =DataCreation!B34/DataCreation!C34 -> 0.64516129 | C34: =DataCreation!D34/DataCreation!F34 -> 0.00086636344 | D34: =DataCreation!G34/DataCreation!F34 -> 0.0067143167 | E34: =DataCreation!H34/DataCreation!G34 -> 0.58064516 | F34: =DataCreation!E34 -> 99 | I34: =DataCreation!K34 -> referral | J34: =DataCreation!L34 -> www6.ocn.ne.jp | K34: =DataCreation!M34/DataCreation!N34 -> 1 | L34: =DataCreation!O34/DataCreation!P34 -> 0 | M34: =DataCreation!S34/DataCreation!P34 -> 0 | N34: =DataCreation!R34/DataCreation!Q34 -> #DIV/0! | O34: =DataCreation!T34/DataCreation!S34 -> #DIV/0! | P34: =DataCreation!P34 -> 15
A35: =DataCreation!A35 -> 2010-10-02 - リアルアクセス解析 | B35: =DataCreation!B35/DataCreation!C35 -> 0.79166667 | C35: =DataCreation!D35/DataCreation!F35 -> 0.00083472454 | D35: =DataCreation!G35/DataCreation!F35 -> 0.0050083472 | E35: =DataCreation!H35/DataCreation!G35 -> 1.4583333 | F35: =DataCreation!E35 -> 95 | I35: =DataCreation!K35 -> referral | J35: =DataCreation!L35 -> appofit.com | K35: =DataCreation!M35/DataCreation!N35 -> 0.78571429 | L35: =DataCreation!O35/DataCreation!P35 -> 0.21428571 | M35: =DataCreation!S35/DataCreation!P35 -> 0.42857143 | N35: =DataCreation!R35/DataCreation!Q35 -> #DIV/0! | O35: =DataCreation!T35/DataCreation!S35 -> 13.333333 | P35: =DataCreation!P35 -> 14
A36: =DataCreation!A36 -> アクセス解析だけでは分からない、サイト上でのユーザー動向を追うツール８＋２種 - リアルアクセス解析 | B36: =DataCreation!B36/DataCreation!C36 -> 0.8 | C36: =DataCreation!D36/DataCreation!F36 -> 0.0023219814 | D36: =DataCreation!G36/DataCreation!F36 -> 0.012899897 | E36: =DataCreation!H36/DataCreation!G36 -> 0.36 | F36: =DataCreation!E36 -> 78 | I36: =DataCreation!K36 -> referral | J36: =DataCreation!L36 -> delicious.com | K36: =DataCreation!M36/DataCreation!N36 -> 0.92857143 | L36: =DataCreation!O36/DataCreation!P36 -> 0 | M36: =DataCreation!S36/DataCreation!P36 -> 0 | N36: =DataCreation!R36/DataCreation!Q36 -> #DIV/0! | O36: =DataCreation!T36/DataCreation!S36 -> #DIV/0! | P36: =DataCreation!P36 -> 14
A37: =DataCreation!A37 -> ブログ情報 - リアルアクセス解析 | B37: =DataCreation!B37/DataCreation!C37 -> 0.44444444 | C37: =DataCreation!D37/DataCreation!F37 -> 0.00067857951 | D37: =DataCreation!G37/DataCreation!F37 -> 0.004071477 | E37: =DataCreation!H37/DataCreation!G37 -> 1.8333333 | F37: =DataCreation!E37 -> 78 | I37: =DataCreation!K37 -> referral | J37: =DataCreation!L37 -> buzzurl.jp | K37: =DataCreation!M37/DataCreation!N37 -> 0.84615385 | L37: =DataCreation!O37/DataCreation!P37 -> 0.30769231 | M37: =DataCreation!S37/DataCreation!P37 -> 0.076923077 | N37: =DataCreation!R37/DataCreation!Q37 -> #DIV/0! | O37: =DataCreation!T37/DataCreation!S37 -> 10 | P37: =DataCreation!P37 -> 13
A38: =DataCreation!A38 -> 「自ドメインの短縮URLを取得してクリック分析を行う「Yourls」とGoogle Analyticsの組み合わせ分析！」（第7回 -アクセス解析＋α） - リアルアクセス解析 | B38: 0 | C38: 0 | D38: 0 | E38: =DataCreation!H38/DataCreation!G38 -> 0.22641509 | F38: =DataCreation!E38 -> 76 | I38: =DataCreation!K38 -> referral | J38: =DataCreation!L38 -> ime.nu | K38: =DataCreation!M38/DataCreation!N38 -> 1 | L38: =DataCreation!O38/DataCreation!P38 -> 0 | M38: =DataCreation!S38/DataCreation!P38 -> 0 | N38: =DataCreation!R38/DataCreation!Q38 -> #DIV/0! | O38: =DataCreation!T38/DataCreation!S38 -> #DIV/0! | P38: =DataCreation!P38 -> 13
A39: =DataCreation!A39 -> 【5min.ウェブ分析法】 その1:入り口ページでは直帰率を、新規とリピーターに分けてチェックしましょう - リアルアクセス解析 | B39: =DataCreation!B39/DataCreation!C39 -> 0.69230769 | C39: =DataCreation!D39/DataCreation!F39 -> 0.00042122999 | D39: =DataCreation!G39/DataCreation!F39 -> 0.0054759899 | E39: =DataCreation!H39/DataCreation!G39 -> 1.4230769 | F39: =DataCreation!E39 -> 74 | I39: =DataCreation!K39 -> referral | J39: =DataCreation!L39 -> listing-community.jp | K39: =DataCreation!M39/DataCreation!N39 -> 0.46153846 | L39: =DataCreation!O39/DataCreation!P39 -> 0.15384615 | M39: =DataCreation!S39/DataCreation!P39 -> 0.30769231 | N39: =DataCreation!R39/DataCreation!Q39 -> #DIV/0! | O39: =DataCreation!T39/DataCreation!S39 -> 10 | P39: =DataCreation!P39 -> 13
A40: =DataCreation!A40 -> アクセス解析：直帰率 - リアルアクセス解析 | B40: =DataCreation!B40/DataCreation!C40 -> 0.9047619 | C40: =DataCreation!D40/DataCreation!F40 -> 0.0071428571 | D40: =DataCreation!G40/DataCreation!F40 -> 0.028125 | E40: =DataCreation!H40/DataCreation!G40 -> 0.095238095 | F40: =DataCreation!E40 -> 74 | I40: =DataCreation!K40 -> referral | J40: =DataCreation!L40 -> m.facebook.com | K40: =DataCreation!M40/DataCreation!N40 -> 0.61538462 | L40: =DataCreation!O40/DataCreation!P40 -> 0.69230769 | M40: =DataCreation!S40/DataCreation!P40 -> 0 | N40: =DataCreation!R40/DataCreation!Q40 -> #DIV/0! | O40: =DataCreation!T40/DataCreation!S40 -> #DIV/0! | P40: =DataCreation!P40 -> 13
A41: =DataCreation!A41 -> 2011/4/6 ～ 2011/4/13のアクセス解析関連記事 - リアルアクセス解析 | B41: =DataCreation!B41/DataCreation!C41 -> 0.87234043 | C41: =DataCreation!D41/DataCreation!F41 -> 0.0017361111 | D41: =DataCreation!G41/DataCreation!F41 -> 0.016319444 | E41: =DataCreation!H41/DataCreation!G41 -> 0.23404255 | F41: =DataCreation!E41 -> 70 | I41: =DataCreation!K41 -> referral | J41: =DataCreation!L41 -> mylifelog.sunnyday.jp | K41: =DataCreation!M41/DataCreation!N41 -> 1 | L41: =DataCreation!O41/DataCreation!P41 -> 0 | M41: =DataCreation!S41/DataCreation!P41 -> 0 | N41: =DataCreation!R41/DataCreation!Q41 -> #DIV/0! | O41: =DataCreation!T41/DataCreation!S41 -> #DIV/0! | P41: =DataCreation!P41 -> 13
A42: =DataCreation!A42 -> 2011/4/13～ 2011/4/21のアクセス解析関連記事 - リアルアクセス解析 | B42: =DataCreation!B42/DataCreation!C42 -> 0.86792453 | C42: =DataCreation!D42/DataCreation!F42 -> 0.0012510425 | D42: =DataCreation!G42/DataCreation!F42 -> 0.022101751 | E42: =DataCreation!H42/DataCreation!G42 -> 0.28301887 | F42: =DataCreation!E42 -> 68 | I42: =DataCreation!K42 -> twitter | J42: =DataCreation!L42 -> blog | K42: =DataCreation!M42/DataCreation!N42 -> 0.92307692 | L42: =DataCreation!O42/DataCreation!P42 -> 0.15384615 | M42: =DataCreation!S42/DataCreation!P42 -> 0.15384615 | N42: =DataCreation!R42/DataCreation!Q42 -> #DIV/0! | O42: =DataCreation!T42/DataCreation!S42 -> 10 | P42: =DataCreation!P42 -> 13
A43: =DataCreation!A43 -> 2011-04-01 - リアルアクセス解析 | B43: =DataCreation!B43/DataCreation!C43 -> 0.87878788 | C43: =DataCreation!D43/DataCreation!F43 -> 0.010514019 | D43: =DataCreation!G43/DataCreation!F43 -> 0.077102804 | E43: =DataCreation!H43/DataCreation!G43 -> 0.015151515 | F43: =DataCreation!E43 -> 67 | I43: =DataCreation!K43 -> referral | J43: =DataCreation!L43 -> ameblo.jp | K43: =DataCreation!M43/DataCreation!N43 -> 0.72727273 | L43: =DataCreation!O43/DataCreation!P43 -> 0.18181818 | M43: =DataCreation!S43/DataCreation!P43 -> 0.090909091 | N43: =DataCreation!R43/DataCreation!Q43 -> #DIV/0! | O43: =DataCreation!T43/DataCreation!S43 -> 10 | P43: =DataCreation!P43 -> 11
A44: =DataCreation!A44 -> 「Google Analytics認定試験」に受かるために参考になりそうなサイトや本 - リアルアクセス解析 | B44: =DataCreation!B44/DataCreation!C44 -> 0.81818182 | C44: =DataCreation!D44/DataCreation!F44 -> 0.0017765495 | D44: =DataCreation!G44/DataCreation!F44 -> 0.010856692 | E44: =DataCreation!H44/DataCreation!G44 -> 0.21818182 | F44: =DataCreation!E44 -> 66 | I44: =DataCreation!K44 -> referral | J44: =DataCreation!L44 -> anond.hatelabo.jp | K44: =DataCreation!M44/DataCreation!N44 -> 1 | L44: =DataCreation!O44/DataCreation!P44 -> 0 | M44: =DataCreation!S44/DataCreation!P44 -> 0 | N44: =DataCreation!R44/DataCreation!Q44 -> #DIV/0! | O44: =DataCreation!T44/DataCreation!S44 -> #DIV/0! | P44: =DataCreation!P44 -> 11
A45: =DataCreation!A45 -> 注目の個性的な無料アクセス解析ツール10選 - リアルアクセス解析 | B45: =DataCreation!B45/DataCreation!C45 -> 0.96 | C45: =DataCreation!D45/DataCreation!F45 -> 0.019955654 | D45: =DataCreation!G45/DataCreation!F45 -> 0.11086475 | E45: =DataCreation!H45/DataCreation!G45 -> 0.02 | F45: =DataCreation!E45 -> 56 | I45: =DataCreation!K45 -> referral | J45: =DataCreation!L45 -> blog.livedoor.jp | K45: =DataCreation!M45/DataCreation!N45 -> 0.81818182 | L45: =DataCreation!O45/DataCreation!P45 -> 0.090909091 | M45: =DataCreation!S45/DataCreation!P45 -> 0.27272727 | N45: =DataCreation!R45/DataCreation!Q45 -> #DIV/0! | O45: =DataCreation!T45/DataCreation!S45 -> 10 | P45: =DataCreation!P45 -> 11
A46: =DataCreation!A46 -> アクセス解析付きのURL短縮ツール「bit.ly」を社内メルマガに活用！ - リアルアクセス解析 | B46: =DataCreation!B46/DataCreation!C46 -> 0.83333333 | C46: =DataCreation!D46/DataCreation!F46 -> 0.0050505051 | D46: =DataCreation!G46/DataCreation!F46 -> 0.026936027 | E46: =DataCreation!H46/DataCreation!G46 -> 0.10416667 | F46: =DataCreation!E46 -> 55 | I46: =DataCreation!K46 -> referral | J46: =DataCreation!L46 -> news109.com | K46: =DataCreation!M46/DataCreation!N46 -> 0.72727273 | L46: =DataCreation!O46/DataCreation!P46 -> 0 | M46: =DataCreation!S46/DataCreation!P46 -> 0.18181818 | N46: =DataCreation!R46/DataCreation!Q46 -> #DIV/0! | O46: =DataCreation!T46/DataCreation!S46 -> 10 | P46: =DataCreation!P46 -> 11
A47: =DataCreation!A47 -> 機会創出を実現。BtoB向けのアクセス解析ツール「らくらくログ解析」 - リアルアクセス解析 | B47: =DataCreation!B47/DataCreation!C47 -> 0.85106383 | C47: =DataCreation!D47/DataCreation!F47 -> 0.0030103996 | D47: =DataCreation!G47/DataCreation!F47 -> 0.012862616 | E47: =DataCreation!H47/DataCreation!G47 -> 0.21276596 | F47: =DataCreation!E47 -> 55 | I47: =DataCreation!K47 -> referral | J47: =DataCreation!L47 -> st.sakura.ne.jp | K47: =DataCreation!M47/DataCreation!N47 -> 0.90909091 | L47: =DataCreation!O47/DataCreation!P47 -> 0 | M47: =DataCreation!S47/DataCreation!P47 -> 0 | N47: =DataCreation!R47/DataCreation!Q47 -> #DIV/0! | O47: =DataCreation!T47/DataCreation!S47 -> #DIV/0! | P47: =DataCreation!P47 -> 11
A48: =DataCreation!A48 -> サイト滞在時間はやみくもに増やせば良い物ではない - リアルアクセス解析 | B48: =DataCreation!B48/DataCreation!C48 -> 0.83673469 | C48: =DataCreation!D48/DataCreation!F48 -> 0.0032840722 | D48: =DataCreation!G48/DataCreation!F48 -> 0.016091954 | E48: =DataCreation!H48/DataCreation!G48 -> 0.16326531 | F48: =DataCreation!E48 -> 54 | I48: =DataCreation!K48 -> referral | J48: =DataCreation!L48 -> ceron.jp | K48: =DataCreation!M48/DataCreation!N48 -> 0.8 | L48: =DataCreation!O48/DataCreation!P48 -> 0.1 | M48: =DataCreation!S48/DataCreation!P48 -> 0.1 | N48: =DataCreation!R48/DataCreation!Q48 -> #DIV/0! | O48: =DataCreation!T48/DataCreation!S48 -> 10 | P48: =DataCreation!P48 -> 10
A49: =DataCreation!A49 -> 【5min.ウェブ分析法】 その2:成果に貢献したページを簡単にチェックしよう - リアルアクセス解析 | B49: =DataCreation!B49/DataCreation!C49 -> 0.6875 | C49: =DataCreation!D49/DataCreation!F49 -> 0.00052640814 | D49: =DataCreation!G49/DataCreation!F49 -> 0.0028075101 | E49: =DataCreation!H49/DataCreation!G49 -> 1.5 | F49: =DataCreation!E49 -> 49 | I49: =DataCreation!K49 -> referral | J49: =DataCreation!L49 -> green.search.goo.ne.jp | K49: =DataCreation!M49/DataCreation!N49 -> 0.9 | L49: =DataCreation!O49/DataCreation!P49 -> 0.6 | M49: =DataCreation!S49/DataCreation!P49 -> 0.2 | N49: =DataCreation!R49/DataCreation!Q49 -> #DIV/0! | O49: =DataCreation!T49/DataCreation!S49 -> 10 | P49: =DataCreation!P49 -> 10
...
